BEGIN:VCALENDAR
VERSION:2.0
PRODID:-//Old St. Luke&#039;s Church - ECPv6.15.15//NONSGML v1.0//EN
CALSCALE:GREGORIAN
METHOD:PUBLISH
X-ORIGINAL-URL:https://www.oldsaintlukes.org
X-WR-CALDESC:Events for Old St. Luke&#039;s Church
REFRESH-INTERVAL;VALUE=DURATION:PT1H
X-Robots-Tag:noindex
X-PUBLISHED-TTL:PT1H
BEGIN:VTIMEZONE
TZID:America/New_York
BEGIN:DAYLIGHT
TZOFFSETFROM:-0500
TZOFFSETTO:-0400
TZNAME:EDT
DTSTART:20240310T070000
END:DAYLIGHT
BEGIN:STANDARD
TZOFFSETFROM:-0400
TZOFFSETTO:-0500
TZNAME:EST
DTSTART:20241103T060000
END:STANDARD
BEGIN:DAYLIGHT
TZOFFSETFROM:-0500
TZOFFSETTO:-0400
TZNAME:EDT
DTSTART:20250309T070000
END:DAYLIGHT
BEGIN:STANDARD
TZOFFSETFROM:-0400
TZOFFSETTO:-0500
TZNAME:EST
DTSTART:20251102T060000
END:STANDARD
BEGIN:DAYLIGHT
TZOFFSETFROM:-0500
TZOFFSETTO:-0400
TZNAME:EDT
DTSTART:20260308T070000
END:DAYLIGHT
BEGIN:STANDARD
TZOFFSETFROM:-0400
TZOFFSETTO:-0500
TZNAME:EST
DTSTART:20261101T060000
END:STANDARD
BEGIN:DAYLIGHT
TZOFFSETFROM:-0500
TZOFFSETTO:-0400
TZNAME:EDT
DTSTART:20270314T070000
END:DAYLIGHT
BEGIN:STANDARD
TZOFFSETFROM:-0400
TZOFFSETTO:-0500
TZNAME:EST
DTSTART:20271107T060000
END:STANDARD
END:VTIMEZONE
BEGIN:VEVENT
DTSTART;TZID=America/New_York:20250928T140000
DTEND;TZID=America/New_York:20250928T153000
DTSTAMP:20260425T143927
CREATED:20250901T105851Z
LAST-MODIFIED:20250901T113624Z
UID:1607-1759068000-1759073400@www.oldsaintlukes.org
SUMMARY:Concert Series
DESCRIPTION:  Harpist Marissa Knaub Avon\n“The Sound of Elegance” \n$20 donation requested\, but all are welcome.
URL:https://www.oldsaintlukes.org/event/concert-series/
LOCATION:Old St. Luke’s Church\, Burial Ground and Garden\, 330 Old Washington Pike\, Carnegie\, PA\, 15106\, United States
CATEGORIES:Concert
END:VEVENT
BEGIN:VEVENT
DTSTART;TZID=America/New_York:20251019T140000
DTEND;TZID=America/New_York:20251019T153000
DTSTAMP:20260425T143927
CREATED:20250901T111026Z
LAST-MODIFIED:20250930T171508Z
UID:1624-1760882400-1760887800@www.oldsaintlukes.org
SUMMARY:Concert Series - Academy String Quartet - "Friends of Ukraine"
DESCRIPTION:  Academy String Quartet\n“Friends of Ukraine” \n$20 donation requested\, but all are welcome.\n 
URL:https://www.oldsaintlukes.org/event/concert-series-2/
LOCATION:Old St. Luke’s Church\, Burial Ground and Garden\, 330 Old Washington Pike\, Carnegie\, PA\, 15106\, United States
CATEGORIES:Concert
END:VEVENT
BEGIN:VEVENT
DTSTART;TZID=America/New_York:20251026T140000
DTEND;TZID=America/New_York:20251026T160000
DTSTAMP:20260425T143927
CREATED:20250930T171325Z
LAST-MODIFIED:20250930T171325Z
UID:1668-1761487200-1761494400@www.oldsaintlukes.org
SUMMARY:"The History Tree" book reading by author Ron Johnson. A story of a what a 300 yr old tree has seen.
DESCRIPTION: \nWe are excited to welcome author Ron Jonson for a reading of his children’s book\,  The History Tree  \, illustrated by Paul Johnston. The History Tree story tells of all the events\, people\, and history of the years that go by while standing tall in the original place of its planting.\n\nCome and listen to the The History Tree  beneath Old St. Luke’s 300 year old red oak tree. A charming adventure into American History for all ages.
URL:https://www.oldsaintlukes.org/event/the-history-tree-book-reading-by-author-ron-johnson-a-story-of-a-what-a-300-yr-old-tree-has-seen/
LOCATION:PA
CATEGORIES:History
END:VEVENT
BEGIN:VEVENT
DTSTART;TZID=America/New_York:20251027T190000
DTEND;TZID=America/New_York:20251027T210000
DTSTAMP:20260425T143927
CREATED:20250901T133802Z
LAST-MODIFIED:20260130T210248Z
UID:1657-1761591600-1761598800@www.oldsaintlukes.org
SUMMARY:Visitor from the Mayflower
DESCRIPTION:A Mayflower passenger from 1620 is coming to visit Old St. Luke’s!\n  \nPlease join us for a special program offered by the Plimoth Patuxet Museum in Plymouth Massachusetts.   A professional reenactor portraying one of the passengers who arrived on the Mayflower in 1620 will give an interactive presentation about the Mayflower passage to America and what life was like for the Pilgrims living in Plymouth\, Massachusetts in 1627. \nThis interactive program is sure to be a delight for the young and old! \n 
URL:https://www.oldsaintlukes.org/event/visitor-from-the-mayflower/
LOCATION:PA
CATEGORIES:History
END:VEVENT
BEGIN:VEVENT
DTSTART;TZID=America/New_York:20251109T140000
DTEND;TZID=America/New_York:20251109T153000
DTSTAMP:20260425T143927
CREATED:20250901T111843Z
LAST-MODIFIED:20250930T171839Z
UID:1626-1762696800-1762702200@www.oldsaintlukes.org
SUMMARY:Concert Series - Daphne Alderson & the St Michael Band
DESCRIPTION:Daphne Alderson & the St Michael Band\n$20 donation requested\, but all are welcome.
URL:https://www.oldsaintlukes.org/event/concert-series-3/
LOCATION:Old St. Luke’s Church\, Burial Ground and Garden\, 330 Old Washington Pike\, Carnegie\, PA\, 15106\, United States
CATEGORIES:Concert
END:VEVENT
BEGIN:VEVENT
DTSTART;TZID=America/New_York:20251123T160000
DTEND;TZID=America/New_York:20251123T170000
DTSTAMP:20260425T143927
CREATED:20251112T012622Z
LAST-MODIFIED:20251112T023434Z
UID:1677-1763913600-1763917200@www.oldsaintlukes.org
SUMMARY:Thanksgiving Sunday Service
DESCRIPTION:  \n\n 
URL:https://www.oldsaintlukes.org/event/thanksgiving-sunday-service-november-23-2025-at-400pm/
LOCATION:Old St. Luke’s Church\, Burial Ground and Garden\, 330 Old Washington Pike\, Carnegie\, PA\, 15106\, United States
END:VEVENT
BEGIN:VEVENT
DTSTART;TZID=America/New_York:20251214T160000
DTEND;TZID=America/New_York:20251214T170000
DTSTAMP:20260425T143927
CREATED:20250901T124912Z
LAST-MODIFIED:20251112T013400Z
UID:1649-1765728000-1765731600@www.oldsaintlukes.org
SUMMARY:Christmas Service of Lessons and Carols
DESCRIPTION:Everyone is invited to this annual ecumenical service of Lessons and Carols. Get in the Christmas spirit with us at Old Saint Luke’s.
URL:https://www.oldsaintlukes.org/event/christmas-service-of-lessons-and-carols/
LOCATION:Old St. Luke’s Church\, Burial Ground and Garden\, 330 Old Washington Pike\, Carnegie\, PA\, 15106\, United States
CATEGORIES:Worship Services
END:VEVENT
BEGIN:VEVENT
DTSTART;TZID=America/New_York:20260322T140000
DTEND;TZID=America/New_York:20260322T153000
DTSTAMP:20260425T143927
CREATED:20250901T112250Z
LAST-MODIFIED:20250930T172056Z
UID:1633-1774188000-1774193400@www.oldsaintlukes.org
SUMMARY:Concert Series- Academy String Quartet  “Domestic and Imported Lyricism”
DESCRIPTION:  Academy String Quartet\n“Domestic and Imported Lyricism” \n$20 donation requested\, but all are welcome.
URL:https://www.oldsaintlukes.org/event/concert-series-4/
LOCATION:Old St. Luke’s Church\, Burial Ground and Garden\, 330 Old Washington Pike\, Carnegie\, PA\, 15106\, United States
CATEGORIES:Concert
END:VEVENT
BEGIN:VEVENT
DTSTART;TZID=America/New_York:20260405T063000
DTEND;TZID=America/New_York:20260405T073000
DTSTAMP:20260425T143927
CREATED:20260127T013846Z
LAST-MODIFIED:20260130T210013Z
UID:1656-1775370600-1775374200@www.oldsaintlukes.org
SUMMARY:Sunrise Easter Service
DESCRIPTION:Please join us to celebrate the risen Christ at 6:30am Easter morning.  All are welcome.
URL:https://www.oldsaintlukes.org/event/sunrise-easter-service/
LOCATION:PA
CATEGORIES:Worship Services
ATTACH;FMTTYPE=image/jpeg:https://www.oldsaintlukes.org/wp-content/uploads/2023/03/1180249-e1769806368528.jpg
END:VEVENT
BEGIN:VEVENT
DTSTART;TZID=America/New_York:20260426T130000
DTEND;TZID=America/New_York:20260426T140000
DTSTAMP:20260425T143927
CREATED:20250901T112814Z
LAST-MODIFIED:20260130T212310Z
UID:1635-1777208400-1777212000@www.oldsaintlukes.org
SUMMARY:Concert Series-Trio Sine Nomine
DESCRIPTION:Trio Sine Nomine\n$20 donation requested\, but all are welcome.
URL:https://www.oldsaintlukes.org/event/concert-series-5/
LOCATION:Old St. Luke’s Church\, Burial Ground and Garden\, 330 Old Washington Pike\, Carnegie\, PA\, 15106\, United States
CATEGORIES:Concert
END:VEVENT
BEGIN:VEVENT
DTSTART;TZID=America/New_York:20260502T120000
DTEND;TZID=America/New_York:20260502T160000
DTSTAMP:20260425T143927
CREATED:20260414T002831Z
LAST-MODIFIED:20260414T002831Z
UID:1757-1777723200-1777737600@www.oldsaintlukes.org
SUMMARY:Civil War encampment of the 9th Pennsylvania Reserves\, Co. A
DESCRIPTION:Experience the life of a Pennsylvania Civil War Soldier at Old St. Luke’s with the 9th Pennsylvania Reserves\, Company A. The company of reenactors will erect a campsite at Old St. Luke’s where you can watch military drills\, speak with soldiers\, and learn about camp life during the civil war.
URL:https://www.oldsaintlukes.org/event/civil-war-encampment-of-the-9th-pennsylvania-reserves-co-a/
LOCATION:Old St. Luke’s Church\, Burial Ground and Garden\, 330 Old Washington Pike\, Carnegie\, PA\, 15106\, United States
CATEGORIES:History
ATTACH;FMTTYPE=image/jpeg:https://www.oldsaintlukes.org/wp-content/uploads/2026/04/Bridgeville2009S-1-e1776126186898.jpg
END:VEVENT
BEGIN:VEVENT
DTSTART;TZID=America/New_York:20260503T140000
DTEND;TZID=America/New_York:20260503T153000
DTSTAMP:20260425T143927
CREATED:20250901T113543Z
LAST-MODIFIED:20260206T191310Z
UID:1637-1777816800-1777822200@www.oldsaintlukes.org
SUMMARY:Concert Series- Tamburaški Sastav Ponoć
DESCRIPTION:Tamburaški Sastav Ponoć\n$20 donation requested\, but all are welcome.
URL:https://www.oldsaintlukes.org/event/concert-series-6/
LOCATION:Old St. Luke’s Church\, Burial Ground and Garden\, 330 Old Washington Pike\, Carnegie\, PA\, 15106\, United States
CATEGORIES:Concert
END:VEVENT
BEGIN:VEVENT
DTSTART;TZID=America/New_York:20260524T130000
DTEND;TZID=America/New_York:20260524T160000
DTSTAMP:20260425T143927
CREATED:20260130T204544Z
LAST-MODIFIED:20260130T210033Z
UID:1720-1779627600-1779638400@www.oldsaintlukes.org
SUMMARY:Open House
DESCRIPTION:An Old St. Luke’s docent will be on hand to answer your questions and show you around the inside of the Church and throughout the Burial Ground. Look for the American Colonial flag to be flying by the open front doors and the Open House Banner on our fence. We look forward to meeting you!
URL:https://www.oldsaintlukes.org/event/open-house-12/
LOCATION:Old St. Luke’s Church\, Burial Ground and Garden\, 330 Old Washington Pike\, Carnegie\, PA\, 15106\, United States
CATEGORIES:History,Open House
END:VEVENT
BEGIN:VEVENT
DTSTART;TZID=America/New_York:20260531T130000
DTEND;TZID=America/New_York:20260531T160000
DTSTAMP:20260425T143927
CREATED:20260130T204544Z
LAST-MODIFIED:20260130T210041Z
UID:1721-1780232400-1780243200@www.oldsaintlukes.org
SUMMARY:Open House
DESCRIPTION:An Old St. Luke’s docent will be on hand to answer your questions and show you around the inside of the Church and throughout the Burial Ground. Look for the American Colonial flag to be flying by the open front doors and the Open House Banner on our fence. We look forward to meeting you!
URL:https://www.oldsaintlukes.org/event/open-house-13/
LOCATION:Old St. Luke’s Church\, Burial Ground and Garden\, 330 Old Washington Pike\, Carnegie\, PA\, 15106\, United States
CATEGORIES:History,Open House
END:VEVENT
BEGIN:VEVENT
DTSTART;TZID=America/New_York:20260607T130000
DTEND;TZID=America/New_York:20260607T160000
DTSTAMP:20260425T143927
CREATED:20260116T160227Z
LAST-MODIFIED:20260130T205635Z
UID:1705-1780837200-1780848000@www.oldsaintlukes.org
SUMMARY:Open House
DESCRIPTION:An Old St. Luke’s docent will be on hand to answer your questions and show you around the inside of the Church and throughout the Burial Ground. Look for the American Colonial flag to be flying by the open front doors and the Open House Banner on our fence. We look forward to meeting you!
URL:https://www.oldsaintlukes.org/event/open-house-11/
LOCATION:Old St. Luke’s Church\, Burial Ground and Garden\, 330 Old Washington Pike\, Carnegie\, PA\, 15106\, United States
CATEGORIES:History,Open House
END:VEVENT
BEGIN:VEVENT
DTSTART;TZID=America/New_York:20260614T130000
DTEND;TZID=America/New_York:20260614T160000
DTSTAMP:20260425T143927
CREATED:20260130T204544Z
LAST-MODIFIED:20260130T210054Z
UID:1723-1781442000-1781452800@www.oldsaintlukes.org
SUMMARY:Open House
DESCRIPTION:An Old St. Luke’s docent will be on hand to answer your questions and show you around the inside of the Church and throughout the Burial Ground. Look for the American Colonial flag to be flying by the open front doors and the Open House Banner on our fence. We look forward to meeting you!
URL:https://www.oldsaintlukes.org/event/open-house-14/
LOCATION:Old St. Luke’s Church\, Burial Ground and Garden\, 330 Old Washington Pike\, Carnegie\, PA\, 15106\, United States
CATEGORIES:History,Open House
END:VEVENT
BEGIN:VEVENT
DTSTART;TZID=America/New_York:20260621T130000
DTEND;TZID=America/New_York:20260621T160000
DTSTAMP:20260425T143927
CREATED:20260130T204544Z
LAST-MODIFIED:20260130T210101Z
UID:1724-1782046800-1782057600@www.oldsaintlukes.org
SUMMARY:Open House
DESCRIPTION:An Old St. Luke’s docent will be on hand to answer your questions and show you around the inside of the Church and throughout the Burial Ground. Look for the American Colonial flag to be flying by the open front doors and the Open House Banner on our fence. We look forward to meeting you!
URL:https://www.oldsaintlukes.org/event/open-house-15/
LOCATION:Old St. Luke’s Church\, Burial Ground and Garden\, 330 Old Washington Pike\, Carnegie\, PA\, 15106\, United States
CATEGORIES:History,Open House
END:VEVENT
BEGIN:VEVENT
DTSTART;TZID=America/New_York:20260628T130000
DTEND;TZID=America/New_York:20260628T160000
DTSTAMP:20260425T143927
CREATED:20260130T204545Z
LAST-MODIFIED:20260130T210108Z
UID:1725-1782651600-1782662400@www.oldsaintlukes.org
SUMMARY:Open House
DESCRIPTION:An Old St. Luke’s docent will be on hand to answer your questions and show you around the inside of the Church and throughout the Burial Ground. Look for the American Colonial flag to be flying by the open front doors and the Open House Banner on our fence. We look forward to meeting you!
URL:https://www.oldsaintlukes.org/event/open-house-16/
LOCATION:Old St. Luke’s Church\, Burial Ground and Garden\, 330 Old Washington Pike\, Carnegie\, PA\, 15106\, United States
CATEGORIES:History,Open House
END:VEVENT
BEGIN:VEVENT
DTSTART;TZID=America/New_York:20260705T130000
DTEND;TZID=America/New_York:20260705T160000
DTSTAMP:20260425T143927
CREATED:20260130T204545Z
LAST-MODIFIED:20260130T210115Z
UID:1726-1783256400-1783267200@www.oldsaintlukes.org
SUMMARY:Open House
DESCRIPTION:An Old St. Luke’s docent will be on hand to answer your questions and show you around the inside of the Church and throughout the Burial Ground. Look for the American Colonial flag to be flying by the open front doors and the Open House Banner on our fence. We look forward to meeting you!
URL:https://www.oldsaintlukes.org/event/open-house-17/
LOCATION:Old St. Luke’s Church\, Burial Ground and Garden\, 330 Old Washington Pike\, Carnegie\, PA\, 15106\, United States
CATEGORIES:History,Open House
END:VEVENT
BEGIN:VEVENT
DTSTART;TZID=America/New_York:20260712T130000
DTEND;TZID=America/New_York:20260712T160000
DTSTAMP:20260425T143927
CREATED:20260130T204545Z
LAST-MODIFIED:20260130T210124Z
UID:1727-1783861200-1783872000@www.oldsaintlukes.org
SUMMARY:Open House
DESCRIPTION:An Old St. Luke’s docent will be on hand to answer your questions and show you around the inside of the Church and throughout the Burial Ground. Look for the American Colonial flag to be flying by the open front doors and the Open House Banner on our fence. We look forward to meeting you!
URL:https://www.oldsaintlukes.org/event/open-house-18/
LOCATION:Old St. Luke’s Church\, Burial Ground and Garden\, 330 Old Washington Pike\, Carnegie\, PA\, 15106\, United States
CATEGORIES:History,Open House
END:VEVENT
BEGIN:VEVENT
DTSTART;TZID=America/New_York:20260719T130000
DTEND;TZID=America/New_York:20260719T160000
DTSTAMP:20260425T143927
CREATED:20260130T204545Z
LAST-MODIFIED:20260130T210132Z
UID:1728-1784466000-1784476800@www.oldsaintlukes.org
SUMMARY:Open House
DESCRIPTION:An Old St. Luke’s docent will be on hand to answer your questions and show you around the inside of the Church and throughout the Burial Ground. Look for the American Colonial flag to be flying by the open front doors and the Open House Banner on our fence. We look forward to meeting you!
URL:https://www.oldsaintlukes.org/event/open-house-19/
LOCATION:Old St. Luke’s Church\, Burial Ground and Garden\, 330 Old Washington Pike\, Carnegie\, PA\, 15106\, United States
CATEGORIES:History,Open House
END:VEVENT
BEGIN:VEVENT
DTSTART;TZID=America/New_York:20260726T130000
DTEND;TZID=America/New_York:20260726T160000
DTSTAMP:20260425T143927
CREATED:20260130T204545Z
LAST-MODIFIED:20260130T210141Z
UID:1729-1785070800-1785081600@www.oldsaintlukes.org
SUMMARY:Open House
DESCRIPTION:An Old St. Luke’s docent will be on hand to answer your questions and show you around the inside of the Church and throughout the Burial Ground. Look for the American Colonial flag to be flying by the open front doors and the Open House Banner on our fence. We look forward to meeting you!
URL:https://www.oldsaintlukes.org/event/open-house-20/
LOCATION:Old St. Luke’s Church\, Burial Ground and Garden\, 330 Old Washington Pike\, Carnegie\, PA\, 15106\, United States
CATEGORIES:History,Open House
END:VEVENT
BEGIN:VEVENT
DTSTART;TZID=America/New_York:20260802T130000
DTEND;TZID=America/New_York:20260802T160000
DTSTAMP:20260425T143927
CREATED:20260130T204546Z
LAST-MODIFIED:20260130T205957Z
UID:1730-1785675600-1785686400@www.oldsaintlukes.org
SUMMARY:Open House
DESCRIPTION:An Old St. Luke’s docent will be on hand to answer your questions and show you around the inside of the Church and throughout the Burial Ground. Look for the American Colonial flag to be flying by the open front doors and the Open House Banner on our fence. We look forward to meeting you!
URL:https://www.oldsaintlukes.org/event/open-house-21/
LOCATION:Old St. Luke’s Church\, Burial Ground and Garden\, 330 Old Washington Pike\, Carnegie\, PA\, 15106\, United States
CATEGORIES:History,Open House
END:VEVENT
BEGIN:VEVENT
DTSTART;TZID=America/New_York:20260809T130000
DTEND;TZID=America/New_York:20260809T160000
DTSTAMP:20260425T143927
CREATED:20260130T204546Z
LAST-MODIFIED:20260130T210150Z
UID:1731-1786280400-1786291200@www.oldsaintlukes.org
SUMMARY:Open House
DESCRIPTION:An Old St. Luke’s docent will be on hand to answer your questions and show you around the inside of the Church and throughout the Burial Ground. Look for the American Colonial flag to be flying by the open front doors and the Open House Banner on our fence. We look forward to meeting you!
URL:https://www.oldsaintlukes.org/event/open-house-22/
LOCATION:Old St. Luke’s Church\, Burial Ground and Garden\, 330 Old Washington Pike\, Carnegie\, PA\, 15106\, United States
CATEGORIES:History,Open House
END:VEVENT
BEGIN:VEVENT
DTSTART;TZID=America/New_York:20260816T130000
DTEND;TZID=America/New_York:20260816T160000
DTSTAMP:20260425T143927
CREATED:20260130T204546Z
LAST-MODIFIED:20260130T210159Z
UID:1732-1786885200-1786896000@www.oldsaintlukes.org
SUMMARY:Open House
DESCRIPTION:An Old St. Luke’s docent will be on hand to answer your questions and show you around the inside of the Church and throughout the Burial Ground. Look for the American Colonial flag to be flying by the open front doors and the Open House Banner on our fence. We look forward to meeting you!
URL:https://www.oldsaintlukes.org/event/open-house-23/
LOCATION:Old St. Luke’s Church\, Burial Ground and Garden\, 330 Old Washington Pike\, Carnegie\, PA\, 15106\, United States
CATEGORIES:History,Open House
END:VEVENT
BEGIN:VEVENT
DTSTART;TZID=America/New_York:20260823T130000
DTEND;TZID=America/New_York:20260823T160000
DTSTAMP:20260425T143927
CREATED:20260130T204546Z
LAST-MODIFIED:20260130T210208Z
UID:1733-1787490000-1787500800@www.oldsaintlukes.org
SUMMARY:Open House
DESCRIPTION:An Old St. Luke’s docent will be on hand to answer your questions and show you around the inside of the Church and throughout the Burial Ground. Look for the American Colonial flag to be flying by the open front doors and the Open House Banner on our fence. We look forward to meeting you!
URL:https://www.oldsaintlukes.org/event/open-house-24/
LOCATION:Old St. Luke’s Church\, Burial Ground and Garden\, 330 Old Washington Pike\, Carnegie\, PA\, 15106\, United States
CATEGORIES:History,Open House
END:VEVENT
BEGIN:VEVENT
DTSTART;TZID=America/New_York:20260830T130000
DTEND;TZID=America/New_York:20260830T160000
DTSTAMP:20260425T143927
CREATED:20260130T204546Z
LAST-MODIFIED:20260130T205949Z
UID:1734-1788094800-1788105600@www.oldsaintlukes.org
SUMMARY:Open House
DESCRIPTION:An Old St. Luke’s docent will be on hand to answer your questions and show you around the inside of the Church and throughout the Burial Ground. Look for the American Colonial flag to be flying by the open front doors and the Open House Banner on our fence. We look forward to meeting you!
URL:https://www.oldsaintlukes.org/event/open-house-25/
LOCATION:Old St. Luke’s Church\, Burial Ground and Garden\, 330 Old Washington Pike\, Carnegie\, PA\, 15106\, United States
CATEGORIES:History,Open House
END:VEVENT
BEGIN:VEVENT
DTSTART;TZID=America/New_York:20260906T130000
DTEND;TZID=America/New_York:20260906T160000
DTSTAMP:20260425T143927
CREATED:20260130T204601Z
LAST-MODIFIED:20260130T205938Z
UID:1735-1788699600-1788710400@www.oldsaintlukes.org
SUMMARY:Open House
DESCRIPTION:An Old St. Luke’s docent will be on hand to answer your questions and show you around the inside of the Church and throughout the Burial Ground. Look for the American Colonial flag to be flying by the open front doors and the Open House Banner on our fence. We look forward to meeting you!
URL:https://www.oldsaintlukes.org/event/open-house-26/
LOCATION:Old St. Luke’s Church\, Burial Ground and Garden\, 330 Old Washington Pike\, Carnegie\, PA\, 15106\, United States
CATEGORIES:History,Open House
END:VEVENT
END:VCALENDAR