BEGIN:VCALENDAR
VERSION:2.0
PRODID:-//Old St. Luke&#039;s Church - ECPv6.15.15//NONSGML v1.0//EN
CALSCALE:GREGORIAN
METHOD:PUBLISH
X-ORIGINAL-URL:https://www.oldsaintlukes.org
X-WR-CALDESC:Events for Old St. Luke&#039;s Church
REFRESH-INTERVAL;VALUE=DURATION:PT1H
X-Robots-Tag:noindex
X-PUBLISHED-TTL:PT1H
BEGIN:VTIMEZONE
TZID:America/New_York
BEGIN:DAYLIGHT
TZOFFSETFROM:-0500
TZOFFSETTO:-0400
TZNAME:EDT
DTSTART:20240310T070000
END:DAYLIGHT
BEGIN:STANDARD
TZOFFSETFROM:-0400
TZOFFSETTO:-0500
TZNAME:EST
DTSTART:20241103T060000
END:STANDARD
BEGIN:DAYLIGHT
TZOFFSETFROM:-0500
TZOFFSETTO:-0400
TZNAME:EDT
DTSTART:20250309T070000
END:DAYLIGHT
BEGIN:STANDARD
TZOFFSETFROM:-0400
TZOFFSETTO:-0500
TZNAME:EST
DTSTART:20251102T060000
END:STANDARD
BEGIN:DAYLIGHT
TZOFFSETFROM:-0500
TZOFFSETTO:-0400
TZNAME:EDT
DTSTART:20260308T070000
END:DAYLIGHT
BEGIN:STANDARD
TZOFFSETFROM:-0400
TZOFFSETTO:-0500
TZNAME:EST
DTSTART:20261101T060000
END:STANDARD
END:VTIMEZONE
BEGIN:VTIMEZONE
TZID:Asia/Karachi
BEGIN:STANDARD
TZOFFSETFROM:+0500
TZOFFSETTO:+0500
TZNAME:PKT
DTSTART:20240101T000000
END:STANDARD
END:VTIMEZONE
BEGIN:VEVENT
DTSTART;TZID=America/New_York:20251019T140000
DTEND;TZID=America/New_York:20251019T153000
DTSTAMP:20260423T205523
CREATED:20250901T111026Z
LAST-MODIFIED:20250930T171508Z
UID:1624-1760882400-1760887800@www.oldsaintlukes.org
SUMMARY:Concert Series - Academy String Quartet - "Friends of Ukraine"
DESCRIPTION:  Academy String Quartet\n“Friends of Ukraine” \n$20 donation requested\, but all are welcome.\n 
URL:https://www.oldsaintlukes.org/event/concert-series-2/
LOCATION:Old St. Luke’s Church\, Burial Ground and Garden\, 330 Old Washington Pike\, Carnegie\, PA\, 15106\, United States
CATEGORIES:Concert
END:VEVENT
BEGIN:VEVENT
DTSTART;TZID=America/New_York:20250928T140000
DTEND;TZID=America/New_York:20250928T153000
DTSTAMP:20260423T205523
CREATED:20250901T105851Z
LAST-MODIFIED:20250901T113624Z
UID:1607-1759068000-1759073400@www.oldsaintlukes.org
SUMMARY:Concert Series
DESCRIPTION:  Harpist Marissa Knaub Avon\n“The Sound of Elegance” \n$20 donation requested\, but all are welcome.
URL:https://www.oldsaintlukes.org/event/concert-series/
LOCATION:Old St. Luke’s Church\, Burial Ground and Garden\, 330 Old Washington Pike\, Carnegie\, PA\, 15106\, United States
CATEGORIES:Concert
END:VEVENT
BEGIN:VEVENT
DTSTART;TZID=America/New_York:20250831T130000
DTEND;TZID=America/New_York:20250831T160000
DTSTAMP:20260423T205523
CREATED:20250630T212006Z
LAST-MODIFIED:20250630T212006Z
UID:1585-1756645200-1756656000@www.oldsaintlukes.org
SUMMARY:Open House
DESCRIPTION:An Old St. Luke’s docent will be on hand to answer your questions and show you around the inside of the Church and throughout the Burial Ground. Look for the American Colonial flag to be flying by the open front doors and the Open House Banner on our fence. We look forward to meeting you!\n2025 Open Houses run Sunday afternoons 1pm-4pm\, May 25 through August 31.
URL:https://www.oldsaintlukes.org/event/open-house-9/
LOCATION:Old St. Luke’s Church\, Burial Ground and Garden\, 330 Old Washington Pike\, Carnegie\, PA\, 15106\, United States
CATEGORIES:Open House
END:VEVENT
BEGIN:VEVENT
DTSTART;TZID=America/New_York:20250824T130000
DTEND;TZID=America/New_York:20250824T160000
DTSTAMP:20260423T205523
CREATED:20250630T212005Z
LAST-MODIFIED:20250630T212005Z
UID:1584-1756040400-1756051200@www.oldsaintlukes.org
SUMMARY:Open House
DESCRIPTION:An Old St. Luke’s docent will be on hand to answer your questions and show you around the inside of the Church and throughout the Burial Ground. Look for the American Colonial flag to be flying by the open front doors and the Open House Banner on our fence. We look forward to meeting you!\n2025 Open Houses run Sunday afternoons 1pm-4pm\, May 25 through August 31.
URL:https://www.oldsaintlukes.org/event/open-house-8/
LOCATION:Old St. Luke’s Church\, Burial Ground and Garden\, 330 Old Washington Pike\, Carnegie\, PA\, 15106\, United States
CATEGORIES:Open House
END:VEVENT
BEGIN:VEVENT
DTSTART;TZID=America/New_York:20250817T130000
DTEND;TZID=America/New_York:20250817T160000
DTSTAMP:20260423T205523
CREATED:20250630T212005Z
LAST-MODIFIED:20250630T212005Z
UID:1583-1755435600-1755446400@www.oldsaintlukes.org
SUMMARY:Open House
DESCRIPTION:An Old St. Luke’s docent will be on hand to answer your questions and show you around the inside of the Church and throughout the Burial Ground. Look for the American Colonial flag to be flying by the open front doors and the Open House Banner on our fence. We look forward to meeting you!\n2025 Open Houses run Sunday afternoons 1pm-4pm\, May 25 through August 31.
URL:https://www.oldsaintlukes.org/event/open-house-7/
LOCATION:Old St. Luke’s Church\, Burial Ground and Garden\, 330 Old Washington Pike\, Carnegie\, PA\, 15106\, United States
CATEGORIES:Open House
END:VEVENT
BEGIN:VEVENT
DTSTART;TZID=America/New_York:20250810T130000
DTEND;TZID=America/New_York:20250810T160000
DTSTAMP:20260423T205523
CREATED:20250630T212005Z
LAST-MODIFIED:20250630T212005Z
UID:1582-1754830800-1754841600@www.oldsaintlukes.org
SUMMARY:Open House
DESCRIPTION:An Old St. Luke’s docent will be on hand to answer your questions and show you around the inside of the Church and throughout the Burial Ground. Look for the American Colonial flag to be flying by the open front doors and the Open House Banner on our fence. We look forward to meeting you!\n2025 Open Houses run Sunday afternoons 1pm-4pm\, May 25 through August 31.
URL:https://www.oldsaintlukes.org/event/open-house-6/
LOCATION:Old St. Luke’s Church\, Burial Ground and Garden\, 330 Old Washington Pike\, Carnegie\, PA\, 15106\, United States
CATEGORIES:Open House
END:VEVENT
BEGIN:VEVENT
DTSTART;TZID=America/New_York:20250803T130000
DTEND;TZID=America/New_York:20250803T160000
DTSTAMP:20260423T205523
CREATED:20250630T205831Z
LAST-MODIFIED:20250630T212005Z
UID:1575-1754226000-1754236800@www.oldsaintlukes.org
SUMMARY:Open House
DESCRIPTION:An Old St. Luke’s docent will be on hand to answer your questions and show you around the inside of the Church and throughout the Burial Ground. Look for the American Colonial flag to be flying by the open front doors and the Open House Banner on our fence. We look forward to meeting you!\n2025 Open Houses run Sunday afternoons 1pm-4pm\, May 25 through August 31.
URL:https://www.oldsaintlukes.org/event/open-house-5/
LOCATION:Old St. Luke’s Church\, Burial Ground and Garden\, 330 Old Washington Pike\, Carnegie\, PA\, 15106\, United States
CATEGORIES:Open House
END:VEVENT
BEGIN:VEVENT
DTSTART;TZID=America/New_York:20250727T130000
DTEND;TZID=America/New_York:20250727T160000
DTSTAMP:20260423T205523
CREATED:20250630T203904Z
LAST-MODIFIED:20250630T203904Z
UID:1570-1753621200-1753632000@www.oldsaintlukes.org
SUMMARY:Open House
DESCRIPTION:An Old St. Luke’s docent will be on hand to answer your questions and show you around the inside of the Church and throughout the Burial Ground. Look for the American Colonial flag to be flying by the open front doors and the Open House Banner on our fence. We look forward to meeting you! \n2025 Open Houses run Sunday afternoons 1pm-4pm\, May 25 through August 31.
URL:https://www.oldsaintlukes.org/event/open-house-4/
LOCATION:Old St. Luke’s Church\, Burial Ground and Garden\, 330 Old Washington Pike\, Carnegie\, PA\, 15106\, United States
END:VEVENT
BEGIN:VEVENT
DTSTART;TZID=America/New_York:20250720T130000
DTEND;TZID=America/New_York:20250720T160000
DTSTAMP:20260423T205523
CREATED:20250630T203344Z
LAST-MODIFIED:20250630T203521Z
UID:1567-1753016400-1753027200@www.oldsaintlukes.org
SUMMARY:Open House
DESCRIPTION:An Old St. Luke’s docent will be on hand to answer your questions and show you around the inside of the Church and throughout the Burial Ground. Look for the American Colonial flag to be flying by the open front doors and the Open House Banner on our fence. We look forward to meeting you! \n2025 Open Houses run Sunday afternoons 1pm-4pm\, May 25 through August 31.
URL:https://www.oldsaintlukes.org/event/open-house-3/
LOCATION:Old St. Luke’s Church\, Burial Ground and Garden\, 330 Old Washington Pike\, Carnegie\, PA\, 15106\, United States
CATEGORIES:Open House
END:VEVENT
BEGIN:VEVENT
DTSTART;TZID=Asia/Karachi:20250713T130000
DTEND;TZID=Asia/Karachi:20250713T160000
DTSTAMP:20260423T205523
CREATED:20250630T202402Z
LAST-MODIFIED:20250630T203454Z
UID:1560-1752411600-1752422400@www.oldsaintlukes.org
SUMMARY:Open House
DESCRIPTION:An Old St. Luke’s docent will be on hand to answer your questions and show you around the inside of the Church and throughout the Burial Ground. Look for the American Colonial flag to be flying by the open front doors and the Open House Banner on our fence. We look forward to meeting you! \n2025 Open Houses run Sunday afternoons 1pm-4pm\, May 25 through August 31.
URL:https://www.oldsaintlukes.org/event/open-house-2/
LOCATION:Old St. Luke’s Church\, Burial Ground and Garden\, 330 Old Washington Pike\, Carnegie\, PA\, 15106\, United States
CATEGORIES:Open House
END:VEVENT
BEGIN:VEVENT
DTSTART;TZID=Asia/Karachi:20250706T130000
DTEND;TZID=Asia/Karachi:20250706T160000
DTSTAMP:20260423T205523
CREATED:20250630T200254Z
LAST-MODIFIED:20250630T203531Z
UID:1548-1751806800-1751817600@www.oldsaintlukes.org
SUMMARY:Open House
DESCRIPTION:An Old St. Luke’s docent will be on hand to answer your questions and show you around the inside of the Church and throughout the Burial Ground. Look for the American Colonial flag to be flying by the open front doors and the Open House Banner on our fence. We look forward to meeting you! \n2025 Open Houses run Sundays May 25 through August 31.
URL:https://www.oldsaintlukes.org/event/open-house/
LOCATION:Old St. Luke’s Church\, Burial Ground and Garden\, 330 Old Washington Pike\, Carnegie\, PA\, 15106\, United States
CATEGORIES:Open House
END:VEVENT
BEGIN:VEVENT
DTSTART;TZID=America/New_York:20250705T180000
DTEND;TZID=America/New_York:20250705T190000
DTSTAMP:20260423T205523
CREATED:20250630T154913Z
LAST-MODIFIED:20250705T152138Z
UID:1521-1751738400-1751742000@www.oldsaintlukes.org
SUMMARY:Return to the Roots of Liberty - Colonial-Era Service
DESCRIPTION:  \nReturn to the Roots of Liberty with a Colonial-Era Prayer Service \nStep back in time with a special 1662 Book of Common Prayer service—just as it would have been heard in this historic church during the colonial era. \n  \n🙏 Prayers for Our Nation and Those in Authority \nIn light of the recent war in the Middle East and rioting across our cities\, we invite you to join us in turning back to the Bible and the principles of the Declaration of Independence. \n✝️ “Blessed is the nation whose God is the Lord.” — Psalm 33:12 \n#OldStLukes #IndependenceDay #1662PrayerBook #FaithAndFreedom #CarnegiePA #PrayForAmerica #HistoricWorship \n 
URL:https://www.oldsaintlukes.org/event/return-to-the-roots-of-liberty/
LOCATION:Old St. Luke’s Church\, Burial Ground and Garden\, 330 Old Washington Pike\, Carnegie\, PA\, 15106\, United States
CATEGORIES:Worship Services
END:VEVENT
END:VCALENDAR