BEGIN:VCALENDAR
VERSION:2.0
PRODID:-//Old St. Luke&#039;s Church - ECPv6.15.15//NONSGML v1.0//EN
CALSCALE:GREGORIAN
METHOD:PUBLISH
X-ORIGINAL-URL:https://www.oldsaintlukes.org
X-WR-CALDESC:Events for Old St. Luke&#039;s Church
REFRESH-INTERVAL;VALUE=DURATION:PT1H
X-Robots-Tag:noindex
X-PUBLISHED-TTL:PT1H
BEGIN:VTIMEZONE
TZID:Asia/Karachi
BEGIN:STANDARD
TZOFFSETFROM:+0500
TZOFFSETTO:+0500
TZNAME:PKT
DTSTART:20240101T000000
END:STANDARD
END:VTIMEZONE
BEGIN:VEVENT
DTSTART;TZID=Asia/Karachi:20250713T130000
DTEND;TZID=Asia/Karachi:20250713T160000
DTSTAMP:20260424T035437
CREATED:20250630T202402Z
LAST-MODIFIED:20250630T203454Z
UID:1560-1752411600-1752422400@www.oldsaintlukes.org
SUMMARY:Open House
DESCRIPTION:An Old St. Luke’s docent will be on hand to answer your questions and show you around the inside of the Church and throughout the Burial Ground. Look for the American Colonial flag to be flying by the open front doors and the Open House Banner on our fence. We look forward to meeting you! \n2025 Open Houses run Sunday afternoons 1pm-4pm\, May 25 through August 31.
URL:https://www.oldsaintlukes.org/event/open-house-2/
LOCATION:Old St. Luke’s Church\, Burial Ground and Garden\, 330 Old Washington Pike\, Carnegie\, PA\, 15106\, United States
CATEGORIES:Open House
END:VEVENT
END:VCALENDAR