BEGIN:VCALENDAR
VERSION:2.0
PRODID:-//Old St. Luke&#039;s Church - ECPv6.15.15//NONSGML v1.0//EN
CALSCALE:GREGORIAN
METHOD:PUBLISH
X-ORIGINAL-URL:https://www.oldsaintlukes.org
X-WR-CALDESC:Events for Old St. Luke&#039;s Church
REFRESH-INTERVAL;VALUE=DURATION:PT1H
X-Robots-Tag:noindex
X-PUBLISHED-TTL:PT1H
BEGIN:VTIMEZONE
TZID:America/New_York
BEGIN:DAYLIGHT
TZOFFSETFROM:-0500
TZOFFSETTO:-0400
TZNAME:EDT
DTSTART:20240310T070000
END:DAYLIGHT
BEGIN:STANDARD
TZOFFSETFROM:-0400
TZOFFSETTO:-0500
TZNAME:EST
DTSTART:20241103T060000
END:STANDARD
BEGIN:DAYLIGHT
TZOFFSETFROM:-0500
TZOFFSETTO:-0400
TZNAME:EDT
DTSTART:20250309T070000
END:DAYLIGHT
BEGIN:STANDARD
TZOFFSETFROM:-0400
TZOFFSETTO:-0500
TZNAME:EST
DTSTART:20251102T060000
END:STANDARD
BEGIN:DAYLIGHT
TZOFFSETFROM:-0500
TZOFFSETTO:-0400
TZNAME:EDT
DTSTART:20260308T070000
END:DAYLIGHT
BEGIN:STANDARD
TZOFFSETFROM:-0400
TZOFFSETTO:-0500
TZNAME:EST
DTSTART:20261101T060000
END:STANDARD
END:VTIMEZONE
BEGIN:VEVENT
DTSTART;TZID=America/New_York:20251214T160000
DTEND;TZID=America/New_York:20251214T170000
DTSTAMP:20260424T002818
CREATED:20250901T124912Z
LAST-MODIFIED:20251112T013400Z
UID:1649-1765728000-1765731600@www.oldsaintlukes.org
SUMMARY:Christmas Service of Lessons and Carols
DESCRIPTION:Everyone is invited to this annual ecumenical service of Lessons and Carols. Get in the Christmas spirit with us at Old Saint Luke’s.
URL:https://www.oldsaintlukes.org/event/christmas-service-of-lessons-and-carols/
LOCATION:Old St. Luke’s Church\, Burial Ground and Garden\, 330 Old Washington Pike\, Carnegie\, PA\, 15106\, United States
CATEGORIES:Worship Services
END:VEVENT
END:VCALENDAR